Package: CCPlotR Version: 1.4.0 Command: /Library/Frameworks/R.framework/Resources/bin/R CMD INSTALL CCPlotR StartedAt: 2025-02-03 16:20:00 -0500 (Mon, 03 Feb 2025) EndedAt: 2025-02-03 16:20:14 -0500 (Mon, 03 Feb 2025) EllapsedTime: 14.7 seconds RetCode: 0 Status: OK