Package: CCPlotR
Version: 1.4.0
Command: /Library/Frameworks/R.framework/Resources/bin/R CMD INSTALL CCPlotR
StartedAt: 2024-11-08 15:25:55 -0500 (Fri, 08 Nov 2024)
EndedAt: 2024-11-08 15:25:59 -0500 (Fri, 08 Nov 2024)
EllapsedTime: 4.7 seconds
RetCode: 0
Status: OK