Package: CCPlotR Version: 1.4.0 Command: rm -rf CCPlotR.buildbin-libdir && mkdir CCPlotR.buildbin-libdir && F:\biocbuild\bbs-3.20-bioc\R\bin\R.exe CMD INSTALL --build --library=CCPlotR.buildbin-libdir CCPlotR_1.4.0.tar.gz StartedAt: 2025-02-04 08:09:05 -0500 (Tue, 04 Feb 2025) EndedAt: 2025-02-04 08:09:21 -0500 (Tue, 04 Feb 2025) EllapsedTime: 16.4 seconds RetCode: 0 Status: OK PackageFile: CCPlotR_1.4.0.zip PackageFileSize: 960.9 KiB