Package: CCPlotR
Version: 1.4.0
Command: chmod a+r CCPlotR -R && F:\biocbuild\bbs-3.20-bioc\R\bin\R.exe CMD build --keep-empty-dirs --no-resave-data CCPlotR
StartedAt: 2025-02-17 17:46:19 -0500 (Mon, 17 Feb 2025)
EndedAt: 2025-02-17 17:47:11 -0500 (Mon, 17 Feb 2025)
EllapsedTime: 52.2 seconds
RetCode: 0
Status: OK
PackageFile: CCPlotR_1.4.0.tar.gz
PackageFileSize: 3.122 <A href="http://en.wikipedia.org/wiki/MiB" target="_blank">MiB</A>