Package: CCPlotR Version: 1.4.0 Command: F:\biocbuild\bbs-3.20-bioc\R\bin\R.exe CMD INSTALL CCPlotR StartedAt: 2025-02-03 15:54:19 -0500 (Mon, 03 Feb 2025) EndedAt: 2025-02-03 15:54:41 -0500 (Mon, 03 Feb 2025) EllapsedTime: 21.9 seconds RetCode: 0 Status: OK