Package: CCPlotR Version: 1.4.0 Command: /home/biocbuild/R/R/bin/R CMD build --keep-empty-dirs --no-resave-data CCPlotR StartedAt: 2025-02-03 22:26:09 -0000 (Mon, 03 Feb 2025) EndedAt: 2025-02-03 22:27:00 -0000 (Mon, 03 Feb 2025) EllapsedTime: 51.0 seconds RetCode: 0 Status: OK PackageFile: CCPlotR_1.4.0.tar.gz PackageFileSize: 3.37 MiB