Package: CEMiTool Version: 1.30.0 Command: /Library/Frameworks/R.framework/Resources/bin/R CMD build --keep-empty-dirs --no-resave-data CEMiTool StartedAt: 2025-02-03 20:18:07 -0500 (Mon, 03 Feb 2025) EndedAt: 2025-02-03 20:20:15 -0500 (Mon, 03 Feb 2025) EllapsedTime: 128.2 seconds RetCode: 0 Status: OK PackageFile: CEMiTool_1.30.0.tar.gz PackageFileSize: 5.643 MiB