Package: CEMiTool Version: 1.30.0 Command: /Library/Frameworks/R.framework/Resources/bin/R CMD INSTALL CEMiTool StartedAt: 2025-02-03 17:18:43 -0500 (Mon, 03 Feb 2025) EndedAt: 2025-02-03 17:19:16 -0500 (Mon, 03 Feb 2025) EllapsedTime: 32.6 seconds RetCode: 0 Status: OK