Package: CEMiTool
Version: 1.30.0
Command: /Library/Frameworks/R.framework/Resources/bin/R CMD INSTALL CEMiTool
StartedAt: 2024-11-19 15:35:03 -0500 (Tue, 19 Nov 2024)
EndedAt: 2024-11-19 15:35:42 -0500 (Tue, 19 Nov 2024)
EllapsedTime: 39.3 seconds
RetCode: 0
Status: OK