Package: CEMiTool Version: 1.30.0 Command: rm -rf CEMiTool.buildbin-libdir && mkdir CEMiTool.buildbin-libdir && /Users/biocbuild/BBS/utils/build-universal.sh CEMiTool_1.30.0.tar.gz /Library/Frameworks/R.framework/Resources/bin/R CEMiTool.buildbin-libdir StartedAt: 2025-02-04 12:37:40 -0500 (Tue, 04 Feb 2025) EndedAt: 2025-02-04 12:38:45 -0500 (Tue, 04 Feb 2025) EllapsedTime: 65.1 seconds RetCode: 0 Status: OK PackageFile: CEMiTool_1.30.0.tgz PackageFileSize: 6.132 MiB