Package: CEMiTool Version: 1.30.0 Command: /home/biocbuild/bbs-3.20-bioc/R/bin/R CMD INSTALL CEMiTool StartedAt: 2025-02-03 15:53:15 -0500 (Mon, 03 Feb 2025) EndedAt: 2025-02-03 15:53:45 -0500 (Mon, 03 Feb 2025) EllapsedTime: 30.2 seconds RetCode: 0 Status: OK