Package: CEMiTool Version: 1.30.0 Command: /home/biocbuild/R/R/bin/R CMD INSTALL CEMiTool StartedAt: 2025-02-03 21:07:47 -0000 (Mon, 03 Feb 2025) EndedAt: 2025-02-03 21:08:22 -0000 (Mon, 03 Feb 2025) EllapsedTime: 35.9 seconds RetCode: 0 Status: OK