Package: CFAssay Version: 1.40.0 Command: /Library/Frameworks/R.framework/Resources/bin/R CMD build --keep-empty-dirs --no-resave-data CFAssay StartedAt: 2025-02-03 20:22:19 -0500 (Mon, 03 Feb 2025) EndedAt: 2025-02-03 20:22:32 -0500 (Mon, 03 Feb 2025) EllapsedTime: 12.6 seconds RetCode: 0 Status: OK PackageFile: CFAssay_1.40.0.tar.gz PackageFileSize: 322.8 KiB