Package: CFAssay Version: 1.40.0 Command: /Library/Frameworks/R.framework/Resources/bin/R CMD INSTALL CFAssay StartedAt: 2025-02-03 15:33:11 -0500 (Mon, 03 Feb 2025) EndedAt: 2025-02-03 15:33:16 -0500 (Mon, 03 Feb 2025) EllapsedTime: 5.4 seconds RetCode: 0 Status: OK