Package: CFAssay Version: 1.40.0 Command: rm -rf CFAssay.buildbin-libdir && mkdir CFAssay.buildbin-libdir && /Users/biocbuild/BBS/utils/build-universal.sh CFAssay_1.40.0.tar.gz /Library/Frameworks/R.framework/Resources/bin/R CFAssay.buildbin-libdir StartedAt: 2025-02-04 12:37:57 -0500 (Tue, 04 Feb 2025) EndedAt: 2025-02-04 12:38:03 -0500 (Tue, 04 Feb 2025) EllapsedTime: 6.7 seconds RetCode: 0 Status: OK PackageFile: CFAssay_1.40.0.tgz PackageFileSize: 398.1 KiB