Package: CFAssay Version: 1.40.0 Command: /home/biocbuild/bbs-3.20-bioc/R/bin/R CMD build --keep-empty-dirs --no-resave-data --md5 CFAssay StartedAt: 2025-02-03 16:47:05 -0500 (Mon, 03 Feb 2025) EndedAt: 2025-02-03 16:47:11 -0500 (Mon, 03 Feb 2025) EllapsedTime: 6.0 seconds RetCode: 0 Status: OK PackageFile: CFAssay_1.40.0.tar.gz PackageFileSize: 324.1 KiB