Package: CFAssay Version: 1.40.0 Command: /home/biocbuild/bbs-3.20-bioc/R/bin/R CMD INSTALL CFAssay StartedAt: 2025-02-03 15:18:27 -0500 (Mon, 03 Feb 2025) EndedAt: 2025-02-03 15:18:44 -0500 (Mon, 03 Feb 2025) EllapsedTime: 17.7 seconds RetCode: 0 Status: OK