Package: CFAssay Version: 1.40.0 Command: chmod a+r CFAssay -R && F:\biocbuild\bbs-3.20-bioc\R\bin\R.exe CMD build --keep-empty-dirs --no-resave-data CFAssay StartedAt: 2025-02-03 18:03:31 -0500 (Mon, 03 Feb 2025) EndedAt: 2025-02-03 18:03:56 -0500 (Mon, 03 Feb 2025) EllapsedTime: 25.1 seconds RetCode: 0 Status: OK PackageFile: CFAssay_1.40.0.tar.gz PackageFileSize: 194 KiB