Package: CFAssay Version: 1.40.0 Command: F:\biocbuild\bbs-3.20-bioc\R\bin\R.exe CMD check --no-multiarch --install=check:CFAssay.install-out.txt --library=F:\biocbuild\bbs-3.20-bioc\R\library --no-vignettes --timings CFAssay_1.40.0.tar.gz StartedAt: 2025-02-04 00:09:47 -0500 (Tue, 04 Feb 2025) EndedAt: 2025-02-04 00:10:18 -0500 (Tue, 04 Feb 2025) EllapsedTime: 31.0 seconds RetCode: 0 Status: OK CheckDir: CFAssay.Rcheck Warnings: 0