Package: CGEN Version: 3.42.0 Command: rm -rf CGEN.buildbin-libdir && mkdir CGEN.buildbin-libdir && /Users/biocbuild/BBS/utils/build-universal.sh CGEN_3.42.0.tar.gz /Library/Frameworks/R.framework/Resources/bin/R CGEN.buildbin-libdir StartedAt: 2025-02-01 14:15:17 -0500 (Sat, 01 Feb 2025) EndedAt: 2025-02-01 14:15:46 -0500 (Sat, 01 Feb 2025) EllapsedTime: 29.0 seconds RetCode: 0 Status: OK PackageFile: CGEN_3.42.0.tgz PackageFileSize: 1.924 MiB