Package: CGEN Version: 3.42.0 Command: rm -rf CGEN.buildbin-libdir && mkdir CGEN.buildbin-libdir && /Users/biocbuild/BBS/utils/build-universal.sh CGEN_3.42.0.tar.gz /Library/Frameworks/R.framework/Resources/bin/R CGEN.buildbin-libdir StartedAt: 2025-01-31 12:30:00 -0500 (Fri, 31 Jan 2025) EndedAt: 2025-01-31 12:31:03 -0500 (Fri, 31 Jan 2025) EllapsedTime: 62.9 seconds RetCode: 0 Status: OK PackageFile: CGEN_3.42.0.tgz PackageFileSize: 1.937 MiB