Package: CGEN Version: 3.42.0 Command: /Library/Frameworks/R.framework/Resources/bin/R CMD check --install=check:CGEN.install-out.txt --library=/Library/Frameworks/R.framework/Resources/library --no-vignettes --timings CGEN_3.42.0.tar.gz StartedAt: 2025-01-31 01:27:32 -0500 (Fri, 31 Jan 2025) EndedAt: 2025-01-31 01:32:34 -0500 (Fri, 31 Jan 2025) EllapsedTime: 302.2 seconds RetCode: 0 Status: WARNINGS CheckDir: CGEN.Rcheck Warnings: 1