Package: CGEN Version: 3.42.0 Command: /Library/Frameworks/R.framework/Resources/bin/R CMD INSTALL CGEN StartedAt: 2025-01-30 16:19:53 -0500 (Thu, 30 Jan 2025) EndedAt: 2025-01-30 16:20:53 -0500 (Thu, 30 Jan 2025) EllapsedTime: 59.6 seconds RetCode: 0 Status: OK