Package: CGEN Version: 3.42.0 Command: rm -rf CGEN.buildbin-libdir && mkdir CGEN.buildbin-libdir && F:\biocbuild\bbs-3.20-bioc\R\bin\R.exe CMD INSTALL --build --library=CGEN.buildbin-libdir CGEN_3.42.0.tar.gz StartedAt: 2025-01-31 08:20:27 -0500 (Fri, 31 Jan 2025) EndedAt: 2025-01-31 08:21:39 -0500 (Fri, 31 Jan 2025) EllapsedTime: 72.0 seconds RetCode: 0 Status: OK PackageFile: CGEN_3.42.0.zip PackageFileSize: 1.753 MiB