Package: CGEN Version: 3.42.0 Command: /home/biocbuild/R/R/bin/R CMD check --install=check:CGEN.install-out.txt --library=/home/biocbuild/R/R/site-library --no-vignettes --timings CGEN_3.42.0.tar.gz StartedAt: 2025-01-31 04:47:48 -0000 (Fri, 31 Jan 2025) EndedAt: 2025-01-31 04:51:05 -0000 (Fri, 31 Jan 2025) EllapsedTime: 197.2 seconds RetCode: 0 Status: WARNINGS CheckDir: CGEN.Rcheck Warnings: 1