Package: CGHbase
Version: 1.66.0
Command: /Library/Frameworks/R.framework/Resources/bin/R CMD INSTALL CGHbase
StartedAt: 2025-02-17 15:09:33 -0500 (Mon, 17 Feb 2025)
EndedAt: 2025-02-17 15:09:50 -0500 (Mon, 17 Feb 2025)
EllapsedTime: 17.4 seconds
RetCode: 0
Status: OK