Package: CGHbase Version: 1.66.0 Command: /home/biocbuild/bbs-3.20-bioc/R/bin/R CMD build --keep-empty-dirs --no-resave-data --md5 CGHbase StartedAt: 2025-02-03 16:47:24 -0500 (Mon, 03 Feb 2025) EndedAt: 2025-02-03 16:47:25 -0500 (Mon, 03 Feb 2025) EllapsedTime: 1.0 seconds RetCode: 0 Status: OK PackageFile: CGHbase_1.66.0.tar.gz PackageFileSize: 849 KiB