Package: CGHbase Version: 1.66.0 Command: /home/biocbuild/bbs-3.20-bioc/R/bin/R CMD INSTALL CGHbase StartedAt: 2025-02-03 15:18:08 -0500 (Mon, 03 Feb 2025) EndedAt: 2025-02-03 15:18:18 -0500 (Mon, 03 Feb 2025) EllapsedTime: 9.5 seconds RetCode: 0 Status: OK