Package: CGHbase Version: 1.66.0 Command: chmod a+r CGHbase -R && F:\biocbuild\bbs-3.20-bioc\R\bin\R.exe CMD build --keep-empty-dirs --no-resave-data CGHbase StartedAt: 2025-02-03 18:04:25 -0500 (Mon, 03 Feb 2025) EndedAt: 2025-02-03 18:04:28 -0500 (Mon, 03 Feb 2025) EllapsedTime: 3.0 seconds RetCode: 0 Status: OK PackageFile: CGHbase_1.66.0.tar.gz PackageFileSize: 847.9 KiB