Package: CGHbase Version: 1.66.0 Command: /home/biocbuild/R/R/bin/R CMD check --install=check:CGHbase.install-out.txt --library=/home/biocbuild/R/R/site-library --no-vignettes --timings CGHbase_1.66.0.tar.gz StartedAt: 2025-02-04 05:31:28 -0000 (Tue, 04 Feb 2025) EndedAt: 2025-02-04 05:32:10 -0000 (Tue, 04 Feb 2025) EllapsedTime: 42.0 seconds RetCode: 0 Status: OK CheckDir: CGHbase.Rcheck Warnings: 0