Package: CGHnormaliter Version: 1.60.0 Command: /home/biocbuild/bbs-3.20-bioc/R/bin/R CMD build --keep-empty-dirs --no-resave-data --md5 CGHnormaliter StartedAt: 2025-02-03 16:47:45 -0500 (Mon, 03 Feb 2025) EndedAt: 2025-02-03 16:48:28 -0500 (Mon, 03 Feb 2025) EllapsedTime: 43.0 seconds RetCode: 0 Status: OK PackageFile: CGHnormaliter_1.60.0.tar.gz PackageFileSize: 1.246 MiB