Package: CGHnormaliter Version: 1.60.0 Command: /home/biocbuild/bbs-3.20-bioc/R/bin/R CMD check --install=check:CGHnormaliter.install-out.txt --library=/home/biocbuild/bbs-3.20-bioc/R/site-library --timings CGHnormaliter_1.60.0.tar.gz StartedAt: 2025-02-03 20:54:00 -0500 (Mon, 03 Feb 2025) EndedAt: 2025-02-03 20:55:55 -0500 (Mon, 03 Feb 2025) EllapsedTime: 115.2 seconds RetCode: 0 Status: OK CheckDir: CGHnormaliter.Rcheck Warnings: 0