Package: CGHnormaliter Version: 1.60.0 Command: /home/biocbuild/R/R/bin/R CMD build --keep-empty-dirs --no-resave-data CGHnormaliter StartedAt: 2025-02-03 22:32:27 -0000 (Mon, 03 Feb 2025) EndedAt: 2025-02-03 22:33:24 -0000 (Mon, 03 Feb 2025) EllapsedTime: 57.0 seconds RetCode: 0 Status: OK PackageFile: CGHnormaliter_1.60.0.tar.gz PackageFileSize: 1.239 MiB