Package: CGHnormaliter Version: 1.60.0 Command: /home/biocbuild/R/R/bin/R CMD INSTALL CGHnormaliter StartedAt: 2025-02-03 20:28:42 -0000 (Mon, 03 Feb 2025) EndedAt: 2025-02-03 20:28:48 -0000 (Mon, 03 Feb 2025) EllapsedTime: 5.1 seconds RetCode: 0 Status: OK