Package: CGHregions Version: 1.64.0 Command: rm -rf CGHregions.buildbin-libdir && mkdir CGHregions.buildbin-libdir && /Users/biocbuild/BBS/utils/build-universal.sh CGHregions_1.64.0.tar.gz /Library/Frameworks/R.framework/Resources/bin/R CGHregions.buildbin-libdir StartedAt: 2025-02-05 15:10:40 -0500 (Wed, 05 Feb 2025) EndedAt: 2025-02-05 15:10:45 -0500 (Wed, 05 Feb 2025) EllapsedTime: 5.8 seconds RetCode: 0 Status: OK PackageFile: CGHregions_1.64.0.tgz PackageFileSize: 245.1 KiB