Package: CGHregions Version: 1.64.0 Command: rm -rf CGHregions.buildbin-libdir && mkdir CGHregions.buildbin-libdir && /Users/biocbuild/BBS/utils/build-universal.sh CGHregions_1.64.0.tar.gz /Library/Frameworks/R.framework/Resources/bin/R CGHregions.buildbin-libdir StartedAt: 2025-02-04 12:38:10 -0500 (Tue, 04 Feb 2025) EndedAt: 2025-02-04 12:38:22 -0500 (Tue, 04 Feb 2025) EllapsedTime: 11.7 seconds RetCode: 0 Status: OK PackageFile: CGHregions_1.64.0.tgz PackageFileSize: 245.2 KiB