Package: CGHregions Version: 1.64.0 Command: /Library/Frameworks/R.framework/Resources/bin/R CMD check --install=check:CGHregions.install-out.txt --library=/Library/Frameworks/R.framework/Resources/library --no-vignettes --timings CGHregions_1.64.0.tar.gz StartedAt: 2025-02-04 01:06:19 -0500 (Tue, 04 Feb 2025) EndedAt: 2025-02-04 01:07:41 -0500 (Tue, 04 Feb 2025) EllapsedTime: 81.7 seconds RetCode: 0 Status: OK CheckDir: CGHregions.Rcheck Warnings: 0