Package: CGHregions Version: 1.64.0 Command: /home/biocbuild/R/R/bin/R CMD build --keep-empty-dirs --no-resave-data CGHregions StartedAt: 2025-02-03 22:32:31 -0000 (Mon, 03 Feb 2025) EndedAt: 2025-02-03 22:32:42 -0000 (Mon, 03 Feb 2025) EllapsedTime: 11.0 seconds RetCode: 0 Status: OK PackageFile: CGHregions_1.64.0.tar.gz PackageFileSize: 207.2 KiB