Package: CGHregions Version: 1.64.0 Command: /home/biocbuild/R/R/bin/R CMD check --install=check:CGHregions.install-out.txt --library=/home/biocbuild/R/R/site-library --no-vignettes --timings CGHregions_1.64.0.tar.gz StartedAt: 2025-02-04 05:32:20 -0000 (Tue, 04 Feb 2025) EndedAt: 2025-02-04 05:32:57 -0000 (Tue, 04 Feb 2025) EllapsedTime: 37.0 seconds RetCode: 0 Status: OK CheckDir: CGHregions.Rcheck Warnings: 0