Package: CHETAH Version: 1.22.0 Command: /Library/Frameworks/R.framework/Resources/bin/R CMD build --keep-empty-dirs --no-resave-data CHETAH StartedAt: 2025-02-03 17:47:44 -0500 (Mon, 03 Feb 2025) EndedAt: 2025-02-03 17:50:13 -0500 (Mon, 03 Feb 2025) EllapsedTime: 148.3 seconds RetCode: 0 Status: OK PackageFile: CHETAH_1.22.0.tar.gz PackageFileSize: 3.578 MiB