Package: CHETAH Version: 1.22.0 Command: /home/biocbuild/bbs-3.20-bioc/R/bin/R CMD build --keep-empty-dirs --no-resave-data --md5 CHETAH StartedAt: 2025-02-03 16:48:03 -0500 (Mon, 03 Feb 2025) EndedAt: 2025-02-03 16:49:03 -0500 (Mon, 03 Feb 2025) EllapsedTime: 60.1 seconds RetCode: 0 Status: OK PackageFile: CHETAH_1.22.0.tar.gz PackageFileSize: 3.502 MiB