Package: CHETAH Version: 1.22.0 Command: /home/biocbuild/bbs-3.20-bioc/R/bin/R CMD INSTALL CHETAH StartedAt: 2025-02-03 15:41:55 -0500 (Mon, 03 Feb 2025) EndedAt: 2025-02-03 15:42:25 -0500 (Mon, 03 Feb 2025) EllapsedTime: 30.0 seconds RetCode: 0 Status: OK