Package: CHETAH Version: 1.22.0 Command: chmod a+r CHETAH -R && F:\biocbuild\bbs-3.20-bioc\R\bin\R.exe CMD build --keep-empty-dirs --no-resave-data CHETAH StartedAt: 2025-02-03 18:05:05 -0500 (Mon, 03 Feb 2025) EndedAt: 2025-02-03 18:06:25 -0500 (Mon, 03 Feb 2025) EllapsedTime: 80.3 seconds RetCode: 0 Status: OK PackageFile: CHETAH_1.22.0.tar.gz PackageFileSize: 3.258 MiB