Package: CHETAH Version: 1.22.0 Command: /home/biocbuild/R/R/bin/R CMD INSTALL CHETAH StartedAt: 2025-02-03 20:56:20 -0000 (Mon, 03 Feb 2025) EndedAt: 2025-02-03 20:56:53 -0000 (Mon, 03 Feb 2025) EllapsedTime: 33.2 seconds RetCode: 0 Status: OK