Package: CHRONOS Version: 1.34.0 Command: /Library/Frameworks/R.framework/Resources/bin/R CMD build --keep-empty-dirs --no-resave-data CHRONOS StartedAt: 2025-02-03 20:39:17 -0500 (Mon, 03 Feb 2025) EndedAt: 2025-02-03 21:19:17 -0500 (Mon, 03 Feb 2025) EllapsedTime: 2400.6 seconds RetCode: None Status: TIMEOUT PackageFile: None PackageFileSize: NA