Package: CHRONOS Version: 1.34.0 Command: /Library/Frameworks/R.framework/Resources/bin/R CMD INSTALL CHRONOS StartedAt: 2025-02-03 17:58:27 -0500 (Mon, 03 Feb 2025) EndedAt: 2025-02-03 17:58:51 -0500 (Mon, 03 Feb 2025) EllapsedTime: 24.2 seconds RetCode: 0 Status: OK