Package: CIMICE Version: 1.14.0 Command: rm -rf CIMICE.buildbin-libdir && mkdir CIMICE.buildbin-libdir && /Users/biocbuild/BBS/utils/build-universal.sh CIMICE_1.14.0.tar.gz /Library/Frameworks/R.framework/Resources/bin/R CIMICE.buildbin-libdir StartedAt: 2025-02-12 14:28:18 -0500 (Wed, 12 Feb 2025) EndedAt: 2025-02-12 14:28:31 -0500 (Wed, 12 Feb 2025) EllapsedTime: 12.4 seconds RetCode: 0 Status: OK PackageFile: CIMICE_1.14.0.tgz PackageFileSize: 1.274 MiB