Package: CIMICE Version: 1.14.0 Command: /Library/Frameworks/R.framework/Resources/bin/R CMD check --install=check:CIMICE.install-out.txt --library=/Library/Frameworks/R.framework/Resources/library --no-vignettes --timings CIMICE_1.14.0.tar.gz StartedAt: 2025-02-04 14:48:32 -0500 (Tue, 04 Feb 2025) EndedAt: 2025-02-04 14:50:00 -0500 (Tue, 04 Feb 2025) EllapsedTime: 87.8 seconds RetCode: 0 Status: OK CheckDir: CIMICE.Rcheck Warnings: 0