Package: CIMICE Version: 1.14.0 Command: /Library/Frameworks/R.framework/Resources/bin/R CMD build --keep-empty-dirs --no-resave-data CIMICE StartedAt: 2025-02-03 17:52:28 -0500 (Mon, 03 Feb 2025) EndedAt: 2025-02-03 17:53:24 -0500 (Mon, 03 Feb 2025) EllapsedTime: 56.1 seconds RetCode: 0 Status: OK PackageFile: CIMICE_1.14.0.tar.gz PackageFileSize: 1.554 MiB