Package: CIMICE Version: 1.14.0 Command: /Library/Frameworks/R.framework/Resources/bin/R CMD INSTALL CIMICE StartedAt: 2025-02-03 16:22:54 -0500 (Mon, 03 Feb 2025) EndedAt: 2025-02-03 16:23:14 -0500 (Mon, 03 Feb 2025) EllapsedTime: 20.3 seconds RetCode: 0 Status: OK